Workbook

Sheet Room Rates
A1: The Quarters – Current Room Rates
A2: Update rates here. The booking form looks up rates from this table automatically.
A4: Room Type | B4: Nightly Rate ($) | C4: Max Guests
A5: Studio Apartment | B5: 130 | C5: 2
A6: One-Bedroom Apartment | B6: 150 | C6: 2
A7: Two-Bedroom Apartment | B7: 250 | C7: 4
A9: Source: thequarters.org.au/short-stays — update this table if published rates change.

Sheet Group Booking Template
A1: The Quarters – Group Booking Template
A2: Please complete one row per guest. Select the Room Type from the dropdown; the Nightly Rate and Max Occupancy will fill in automatically. Grey shaded columns (I, J, N, T–W) are calculated or for office use, and should be left as is.
A4: Guest Information | D4: Booking Request Information | O4: Emergency Contact | T4: The Quarters Office Use Only
A5: Guest Name | B5: Guest Email | C5: Guest Mobile | D5: Arrival Date | E5: Departure Date | F5: Check-In Time | G5: Check-Out Time | H5: Room Type | I5: Max Room Occupancy | J5: Nightly Rate ($) | K5: Number of Nights | L5: Parking Required (Y/N) | M5: Parking Rate per Night ($) | N5: Subtotal ($) | O5: First Name | P5: Surname | Q5: Relationship to Guest | R5: Email | S5: Phone Number | T5: Room Number | U5: Group Booking (Y/N) | V5: Conference / Event Name | W5: Group Booking Point of Contact
A6: EXAMPLE – Jane Citizen | B6: jane.citizen@email.com | C6: 0400 000 000 | D6: Monday 1 September | E6: Wednesday 3 September | F6: 1:00 PM | G6: 10:00 AM | H6: Studio Apartment | I6: =IFERROR(INDEX('Room Rates'!$C$5:$C$7,MATCH(H6,'Room Rates'!$A$5:$A$7,0)),"") -> 2 | J6: =IFERROR(INDEX('Room Rates'!$B$5:$B$7,MATCH(H6,'Room Rates'!$A$5:$A$7,0)),"") -> 130 | K6: 2 | L6: N | N6: =IF(H6="","",J6*K6+IF(L6="Y",IFERROR(M6*K6,0),0)) -> 260 | O6: John Citizen | Q6: Spouse | R6: john.citizen@email.com | S6: 0400 000 001 | U6: Y | V6: Example Conference Name | W6: Example Group Contact Name
I7: =IFERROR(INDEX('Room Rates'!$C$5:$C$7,MATCH(H7,'Room Rates'!$A$5:$A$7,0)),"") | J7: =IFERROR(INDEX('Room Rates'!$B$5:$B$7,MATCH(H7,'Room Rates'!$A$5:$A$7,0)),"") | N7: =IF(H7="","",J7*K7+IF(L7="Y",IFERROR(M7*K7,0),0))
I8: =IFERROR(INDEX('Room Rates'!$C$5:$C$7,MATCH(H8,'Room Rates'!$A$5:$A$7,0)),"") | J8: =IFERROR(INDEX('Room Rates'!$B$5:$B$7,MATCH(H8,'Room Rates'!$A$5:$A$7,0)),"") | N8: =IF(H8="","",J8*K8+IF(L8="Y",IFERROR(M8*K8,0),0))
I9: =IFERROR(INDEX('Room Rates'!$C$5:$C$7,MATCH(H9,'Room Rates'!$A$5:$A$7,0)),"") | J9: =IFERROR(INDEX('Room Rates'!$B$5:$B$7,MATCH(H9,'Room Rates'!$A$5:$A$7,0)),"") | N9: =IF(H9="","",J9*K9+IF(L9="Y",IFERROR(M9*K9,0),0))
I10: =IFERROR(INDEX('Room Rates'!$C$5:$C$7,MATCH(H10,'Room Rates'!$A$5:$A$7,0)),"") | J10: =IFERROR(INDEX('Room Rates'!$B$5:$B$7,MATCH(H10,'Room Rates'!$A$5:$A$7,0)),"") | N10: =IF(H10="","",J10*K10+IF(L10="Y",IFERROR(M10*K10,0),0))
I11: =IFERROR(INDEX('Room Rates'!$C$5:$C$7,MATCH(H11,'Room Rates'!$A$5:$A$7,0)),"") | J11: =IFERROR(INDEX('Room Rates'!$B$5:$B$7,MATCH(H11,'Room Rates'!$A$5:$A$7,0)),"") | N11: =IF(H11="","",J11*K11+IF(L11="Y",IFERROR(M11*K11,0),0))
I12: =IFERROR(INDEX('Room Rates'!$C$5:$C$7,MATCH(H12,'Room Rates'!$A$5:$A$7,0)),"") | J12: =IFERROR(INDEX('Room Rates'!$B$5:$B$7,MATCH(H12,'Room Rates'!$A$5:$A$7,0)),"") | N12: =IF(H12="","",J12*K12+IF(L12="Y",IFERROR(M12*K12,0),0))
I13: =IFERROR(INDEX('Room Rates'!$C$5:$C$7,MATCH(H13,'Room Rates'!$A$5:$A$7,0)),"") | J13: =IFERROR(INDEX('Room Rates'!$B$5:$B$7,MATCH(H13,'Room Rates'!$A$5:$A$7,0)),"") | N13: =IF(H13="","",J13*K13+IF(L13="Y",IFERROR(M13*K13,0),0))
I14: =IFERROR(INDEX('Room Rates'!$C$5:$C$7,MATCH(H14,'Room Rates'!$A$5:$A$7,0)),"") | J14: =IFERROR(INDEX('Room Rates'!$B$5:$B$7,MATCH(H14,'Room Rates'!$A$5:$A$7,0)),"") | N14: =IF(H14="","",J14*K14+IF(L14="Y",IFERROR(M14*K14,0),0))
I15: =IFERROR(INDEX('Room Rates'!$C$5:$C$7,MATCH(H15,'Room Rates'!$A$5:$A$7,0)),"") | J15: =IFERROR(INDEX('Room Rates'!$B$5:$B$7,MATCH(H15,'Room Rates'!$A$5:$A$7,0)),"") | N15: =IF(H15="","",J15*K15+IF(L15="Y",IFERROR(M15*K15,0),0))
I16: =IFERROR(INDEX('Room Rates'!$C$5:$C$7,MATCH(H16,'Room Rates'!$A$5:$A$7,0)),"") | J16: =IFERROR(INDEX('Room Rates'!$B$5:$B$7,MATCH(H16,'Room Rates'!$A$5:$A$7,0)),"") | N16: =IF(H16="","",J16*K16+IF(L16="Y",IFERROR(M16*K16,0),0))
I17: =IFERROR(INDEX('Room Rates'!$C$5:$C$7,MATCH(H17,'Room Rates'!$A$5:$A$7,0)),"") | J17: =IFERROR(INDEX('Room Rates'!$B$5:$B$7,MATCH(H17,'Room Rates'!$A$5:$A$7,0)),"") | N17: =IF(H17="","",J17*K17+IF(L17="Y",IFERROR(M17*K17,0),0))
I18: =IFERROR(INDEX('Room Rates'!$C$5:$C$7,MATCH(H18,'Room Rates'!$A$5:$A$7,0)),"") | J18: =IFERROR(INDEX('Room Rates'!$B$5:$B$7,MATCH(H18,'Room Rates'!$A$5:$A$7,0)),"") | N18: =IF(H18="","",J18*K18+IF(L18="Y",IFERROR(M18*K18,0),0))
... I26: =IFERROR(INDEX('Room Rates'!$C$5:$C$7,MATCH(H26,'Room Rates'!$A$5:$A$7,0)),"") | J26: =IFERROR(INDEX('Room Rates'!$B$5:$B$7,MATCH(H26,'Room Rates'!$A$5:$A$7,0)),"") | N26: =IF(H26="","",J26*K26+IF(L26="Y",IFERROR(M26*K26,0),0))
A27: Total Accommodation Cost | N27: =SUM(N7:N26) -> 0
A29: Emergency Contact: Please provide an emergency contact person (either the conference organiser or the guest themselves). This information is required in the event of an accident or emergency.
A31: Mobile Pass: Mobile passes are issued for check-in, allowing guests to access their accommodation outside business hours. If a guest does not have a mobile phone, please indicate this in advance so that we can arrange a key-bank collection and provide a physical access pass.
A33: Cost Allocation: Please note that all accommodation charges will be invoiced directly to the department or booking contact named above. Any cost-sharing arrangements between departments or staff members will need to be managed internally. This approach helps avoid payment difficulties and potential international transfer fees for guests travelling from overseas.
